BEGIN:VCALENDAR
VERSION:2.0
PRODID:-//https://urgau.ru///NONSGML kigkonsult.se iCalcreator 2.10.15//
METHOD:PUBLISH
BEGIN:VEVENT
UID:20260423T143115+05-4093uBOkKU@https://urgau.ru/
DTSTAMP:20260423T093115Z
DESCRIPTION:Отборочный тур пройдет с 15.01. по 12.03.2025 г.\nПодробнее...
 \n \n  https://urgau.ru/kalendar-sobytij/event/480-start-viii-vserossijsko
 j-nauchno-prakticheskoj-konferentsii-dlya-shkolnikov-na-puti-k-poznaniyu
DTSTART;VALUE=DATE:20250115
LOCATION:Уральский ГАУ (г. Екатеринбург\, ул. К. Либкнехта\, 42)
SUMMARY:Старт VIII Всероссийской научно-практической конференции для школьн
 иков «На пути к познанию»
URL:https://urgau.ru/kalendar-sobytij/event/480-start-viii-vserossijskoj-na
 uchno-prakticheskoj-konferentsii-dlya-shkolnikov-na-puti-k-poznaniyu
END:VEVENT
END:VCALENDAR
