BEGIN:VCALENDAR
VERSION:2.0
PRODID:-//https://urgau.ru///NONSGML kigkonsult.se iCalcreator 2.10.15//
METHOD:PUBLISH
BEGIN:VEVENT
UID:20260425T160924+05-3956hrp6hc@https://urgau.ru/
DTSTAMP:20260425T110924Z
DESCRIPTION:Начало в 12:30 ч. \nПодробнее...\n \n  https://urgau.ru/kalenda
 r-sobytij/event/465-final-vserossijskoj-olimpiady-dlya-shkolnikov-imeni-pe
 rvogo-rektora-uralskogo-gau-o-a-ivanovoj
DTSTART;VALUE=DATE:20250118
LOCATION:ауд. 4318 (ауд. 4318 (фосагро))
SUMMARY:Финал Всероссийской олимпиады для школьников имени первого ректора 
 Уральского ГАУ О. А. Ивановой
URL:https://urgau.ru/kalendar-sobytij/event/465-final-vserossijskoj-olimpia
 dy-dlya-shkolnikov-imeni-pervogo-rektora-uralskogo-gau-o-a-ivanovoj
END:VEVENT
END:VCALENDAR
