BEGIN:VCALENDAR
VERSION:2.0
PRODID:-//https://urgau.ru///NONSGML kigkonsult.se iCalcreator 2.10.15//
METHOD:PUBLISH
BEGIN:VEVENT
UID:20260424T171249+05-3482gI9Z53@https://urgau.ru/
DTSTAMP:20260424T121249Z
DESCRIPTION:Уважаемые коллеги! Очередное заседание Ученого совета Университ
 ета состоится 23 января 2020 г. в 15:00 ч. в зале ученого совета.\nПовестк
 а заседания:\n1. ОТЧЕТ О САМООБСЛЕДОВАНИИ НАПРАВЛЕНИЙ ПОДГОТОВКИ- институт
  экономики\, финансов и менеджмента- факультет инженерных технологий\,- фа
 культет среднего профессионального образования\,- факультет агротехнологии
  и землеустройстваДокладчики: деканы\, директор\, руководители ОП\n2. РАЗН
 ОЕ https://urgau.ru/kalendar-sobytij/event/205-zasedanie-uchenogo-soveta
DTSTART;VALUE=DATE:20200123
LOCATION:Зале Ученого совета (г. Екатеринбург\, ул. К. Либкнехта\, 42\, ауд
 . 1203)
SUMMARY:заседание ученого совета
URL:https://urgau.ru/kalendar-sobytij/event/205-zasedanie-uchenogo-soveta
END:VEVENT
BEGIN:VEVENT
UID:20260424T171249+05-3485nHOFFH@https://urgau.ru/
DTSTAMP:20260424T121249Z
DESCRIPTION:с 21 по 23 января 2020 г. в Уральском ГАУ пройдет семинар&nbsp\
 ;'Инновационные технологии в образовании'. Начало в 10:00 ч. Место проведе
 ния: ул. К. Либкнехта\, 42\, ауд. 5213 https://urgau.ru/kalendar-sobytij/e
 vent/207-seminar-innovatsionnye-tekhnologii-v-obrazovanii
DTSTART:20200121T073517Z
DTEND:20200123T093517Z
LOCATION:Уральский ГАУ (г. Екатеринбург\, ул. К. Либкнехта\, 42)
SUMMARY:Семинар 'Инновационные технологии в образовании'
URL:https://urgau.ru/kalendar-sobytij/event/207-seminar-innovatsionnye-tekh
 nologii-v-obrazovanii
END:VEVENT
BEGIN:VEVENT
UID:20260424T171249+05-3488gi6Abs@https://urgau.ru/
DTSTAMP:20260424T121249Z
DESCRIPTION: https://urgau.ru/kalendar-sobytij/event/216-konkurs-motivatsio
 nnykh-plakatov-posterov-mir-nauki-i-innovatsij
DTSTART:20191125T044250Z
DTEND:20200229T144250Z
LOCATION:Уральский ГАУ (г. Екатеринбург\, ул. К. Либкнехта\, 42)
SUMMARY:Конкурс мотивационных плакатов (постеров)  «Мир науки и инноваций» 
URL:https://urgau.ru/kalendar-sobytij/event/216-konkurs-motivatsionnykh-pla
 katov-posterov-mir-nauki-i-innovatsij
END:VEVENT
END:VCALENDAR
