BEGIN:VCALENDAR
VERSION:2.0
PRODID:-//https://urgau.ru///NONSGML kigkonsult.se iCalcreator 2.10.15//
METHOD:PUBLISH
BEGIN:VEVENT
UID:20260420T172902+05-1256FZaWp7@https://urgau.ru/
DTSTAMP:20260420T122902Z
DESCRIPTION:29.01.2020 г. в 14:00 ч. состоится заседание Научно-техническог
 о совета.\n.\nВ повестке вопрос о перспективе и сроках защиты диссертации 
 на соискание степени кандидата наук выпускников аспирантуры.\nОпросный лис
 т о готовности к защите для представления на НТС и список отчитывающихся в
 ыпускников аспирантуры можно посмотреть на сайте Университета в разделе ас
 пирантура.\n&nbsp\;\n&nbsp\; https://urgau.ru/kalendar-sobytij/event/206-z
 asedanie-nauchno-tekhnicheskogo-soveta
DTSTART;VALUE=DATE:20200129
LOCATION:Зале диссертационного совета (г. Екатеринбург\, ул. К. Либкнехта\,
  42\, ауд. 1305)
SUMMARY:Заседание Научно-технического совета
URL:https://urgau.ru/kalendar-sobytij/event/206-zasedanie-nauchno-tekhniche
 skogo-soveta
END:VEVENT
BEGIN:VEVENT
UID:20260420T172902+05-1260v0pWdK@https://urgau.ru/
DTSTAMP:20260420T122902Z
DESCRIPTION: https://urgau.ru/kalendar-sobytij/event/216-konkurs-motivatsio
 nnykh-plakatov-posterov-mir-nauki-i-innovatsij
DTSTART:20191125T044250Z
DTEND:20200229T144250Z
LOCATION:Уральский ГАУ (г. Екатеринбург\, ул. К. Либкнехта\, 42)
SUMMARY:Конкурс мотивационных плакатов (постеров)  «Мир науки и инноваций» 
URL:https://urgau.ru/kalendar-sobytij/event/216-konkurs-motivatsionnykh-pla
 katov-posterov-mir-nauki-i-innovatsij
END:VEVENT
END:VCALENDAR
