BEGIN:VCALENDAR
VERSION:2.0
PRODID:-//https://urgau.ru///NONSGML kigkonsult.se iCalcreator 2.10.15//
METHOD:PUBLISH
BEGIN:VEVENT
UID:20260421T114518+05-3453sCk1BP@https://urgau.ru/
DTSTAMP:20260421T064518Z
DESCRIPTION: \n \n  https://urgau.ru/kalendar-sobytij/event/460-vystavka-ya
 rmarka-moya-zemlya
DTSTART:20250214T070000Z
DTEND:20250215T130052Z
LOCATION:Уральский ГАУ (г. Екатеринбург\, ул. К. Либкнехта\, 42)
SUMMARY:Выставка-ярмарка 'Моя земля'
URL:https://urgau.ru/kalendar-sobytij/event/460-vystavka-yarmarka-moya-zeml
 ya
END:VEVENT
BEGIN:VEVENT
UID:20260421T114518+05-3457pgTztt@https://urgau.ru/
DTSTAMP:20260421T064518Z
DESCRIPTION:Место проведения: ауд. 2204 (вход с Тургенева\, д. 23)\n \n \n 
  https://urgau.ru/kalendar-sobytij/event/475-den-otkrytykh-dverej-fakultet
 a-veterinarnoj-meditsiny-i-ekspertizy
DTSTART;VALUE=DATE:20250215
LOCATION:Актовом зале (г. Екатеринбург\, ул. Тургенева\, 23)
SUMMARY:День открытых дверей факультета ветеринарной медицины и экспертизы
URL:https://urgau.ru/kalendar-sobytij/event/475-den-otkrytykh-dverej-fakult
 eta-veterinarnoj-meditsiny-i-ekspertizy
END:VEVENT
END:VCALENDAR
