BEGIN:VCALENDAR
VERSION:2.0
PRODID:-//https://urgau.ru///NONSGML kigkonsult.se iCalcreator 2.10.15//
METHOD:PUBLISH
BEGIN:VEVENT
UID:20260420T173014+05-4204Wir4xD@https://urgau.ru/
DTSTAMP:20260420T123014Z
DESCRIPTION:Праздничный концерт 'С юбилеем\, УрГАУ' с участием творческих к
 оллективов вузов г. Екатеринбурга. Начало в 15:00 ч. https://urgau.ru/kale
 ndar-sobytij/event/169-kontsert-tvorcheskikh-kollektivov-universiteta-i-vu
 zov-goroda
DTSTART;VALUE=DATE:20200217
LOCATION:Актовом зале (г. Екатеринбург\, ул. Тургенева\, 23)
SUMMARY:Концерт творческих коллективов университета и вузов города
URL:https://urgau.ru/kalendar-sobytij/event/169-kontsert-tvorcheskikh-kolle
 ktivov-universiteta-i-vuzov-goroda
END:VEVENT
BEGIN:VEVENT
UID:20260420T173014+05-4206TzJIWR@https://urgau.ru/
DTSTAMP:20260420T123014Z
DESCRIPTION: https://urgau.ru/kalendar-sobytij/event/171-shakhmatnyj-match-
 prepodavatelej-i-studentov-universiteta
DTSTART;VALUE=DATE:20200217
LOCATION:Актовом зале (г. Екатеринбург\, ул. Тургенева\, 23)
SUMMARY:Шахматный матч преподавателей и студентов университета
URL:https://urgau.ru/kalendar-sobytij/event/171-shakhmatnyj-match-prepodava
 telej-i-studentov-universiteta
END:VEVENT
BEGIN:VEVENT
UID:20260420T173014+05-42083Bel6U@https://urgau.ru/
DTSTAMP:20260420T123014Z
DESCRIPTION: https://urgau.ru/kalendar-sobytij/event/216-konkurs-motivatsio
 nnykh-plakatov-posterov-mir-nauki-i-innovatsij
DTSTART:20191125T044250Z
DTEND:20200229T144250Z
LOCATION:Уральский ГАУ (г. Екатеринбург\, ул. К. Либкнехта\, 42)
SUMMARY:Конкурс мотивационных плакатов (постеров)  «Мир науки и инноваций» 
URL:https://urgau.ru/kalendar-sobytij/event/216-konkurs-motivatsionnykh-pla
 katov-posterov-mir-nauki-i-innovatsij
END:VEVENT
END:VCALENDAR
