BEGIN:VCALENDAR
VERSION:2.0
PRODID:-//https://urgau.ru///NONSGML kigkonsult.se iCalcreator 2.10.15//
METHOD:PUBLISH
BEGIN:VEVENT
UID:20260420T173013+05-6880VNmRrx@https://urgau.ru/
DTSTAMP:20260420T123013Z
DESCRIPTION:Мастер-класс по инструментальным методам диагностики: 'Пункции 
 под контролем УЗИ' (факультет ветеринарной медицины и экспертизы). Время п
 роведения: 16:00 - 17:00 ч. https://urgau.ru/kalendar-sobytij/event/188-ma
 ster-klass-po-instrumentalnym-metodam-diagnostiki-punktsii-pod-kontrolem-u
 zi
DTSTART;VALUE=DATE:20200218
LOCATION:6 корпус  (г. Екатеринбург\, ул. Белинского\, 112а)
SUMMARY:Мастер-класс по инструментальным методам диагностики: 'Пункции под 
 контролем УЗИ'
URL:https://urgau.ru/kalendar-sobytij/event/188-master-klass-po-instrumenta
 lnym-metodam-diagnostiki-punktsii-pod-kontrolem-uzi
END:VEVENT
BEGIN:VEVENT
UID:20260420T173013+05-6883DbdxI1@https://urgau.ru/
DTSTAMP:20260420T123013Z
DESCRIPTION:Время проведения: 17:00 - 19:00 ч. https://urgau.ru/kalendar-so
 bytij/event/190-intellektualnaya-igra-chto-gde-kogda
DTSTART;VALUE=DATE:20200218
LOCATION:Актовом зале (г. Екатеринбург\, ул. Тургенева\, 23)
SUMMARY:Интеллектуальная игра 'Что? Где? Когда?'
URL:https://urgau.ru/kalendar-sobytij/event/190-intellektualnaya-igra-chto-
 gde-kogda
END:VEVENT
BEGIN:VEVENT
UID:20260420T173013+05-6884PsPazK@https://urgau.ru/
DTSTAMP:20260420T123013Z
DESCRIPTION:Торжественное заседание Ученого совета университета пройдет 18.
 02.2020 г.\, начало в 15:00 ч. в актовом зале Уральского ГАУ (ул. Тургенев
 а\, 23).&nbsp\; https://urgau.ru/kalendar-sobytij/event/197-zasedanie-uche
 nogo-soveta-universiteta
DTSTART;VALUE=DATE:20200218
LOCATION:Актовом зале (г. Екатеринбург\, ул. Тургенева\, 23)
SUMMARY:Заседание Ученого совета университета
URL:https://urgau.ru/kalendar-sobytij/event/197-zasedanie-uchenogo-soveta-u
 niversiteta
END:VEVENT
BEGIN:VEVENT
UID:20260420T173013+05-6886HEo1SX@https://urgau.ru/
DTSTAMP:20260420T123013Z
DESCRIPTION: https://urgau.ru/kalendar-sobytij/event/216-konkurs-motivatsio
 nnykh-plakatov-posterov-mir-nauki-i-innovatsij
DTSTART:20191125T044250Z
DTEND:20200229T144250Z
LOCATION:Уральский ГАУ (г. Екатеринбург\, ул. К. Либкнехта\, 42)
SUMMARY:Конкурс мотивационных плакатов (постеров)  «Мир науки и инноваций» 
URL:https://urgau.ru/kalendar-sobytij/event/216-konkurs-motivatsionnykh-pla
 katov-posterov-mir-nauki-i-innovatsij
END:VEVENT
BEGIN:VEVENT
UID:20260420T173013+05-6887xjUNbU@https://urgau.ru/
DTSTAMP:20260420T123013Z
DESCRIPTION:18.02.2020 г. в 12:20 ч. пройдет открытая лекция профессора Мад
 ридского политехнического университета&nbsp\;Хосе Луис Лопес Гарсия на тем
 у 'Дистрибуция свежих продуктов питания в Европе'. Место проведения: ауд. 
 4516. https://urgau.ru/kalendar-sobytij/event/224-otkrytaya-lektsiya-profe
 ssora-khose-luis-lopes-garsiya-madridskij-politekhnicheskij-universitet-is
 paniya
DTSTART;VALUE=DATE:20200218
LOCATION:Уральский ГАУ (г. Екатеринбург\, ул. К. Либкнехта\, 42)
SUMMARY:открытая лекция профессора Хосе Луис Лопес Гарсия\, Мадридский поли
 технический университет\, Испания
URL:https://urgau.ru/kalendar-sobytij/event/224-otkrytaya-lektsiya-professo
 ra-khose-luis-lopes-garsiya-madridskij-politekhnicheskij-universitet-ispan
 iya
END:VEVENT
END:VCALENDAR
