BEGIN:VCALENDAR
VERSION:2.0
PRODID:-//https://urgau.ru///NONSGML kigkonsult.se iCalcreator 2.10.15//
METHOD:PUBLISH
BEGIN:VEVENT
UID:20260420T173015+05-41657CP3ug@https://urgau.ru/
DTSTAMP:20260420T123015Z
DESCRIPTION:Научно-практическая конференция «От инерции к развитию: научно-
 инновационное обеспечение сельского&nbsp\;хозяйства» пройдет 19.02.2020 г.
  в актовом зале Уральского ГАУ (ул. Тургенева\, 23).&nbsp\;Время проведени
 я: 10:00 - 17:00 ч. https://urgau.ru/kalendar-sobytij/event/145-nauchno-pr
 akticheskaya-konferentsiya
DTSTART;VALUE=DATE:20200219
LOCATION:Актовом зале (г. Екатеринбург\, ул. Тургенева\, 23)
SUMMARY:Научно-практическая конференция 
URL:https://urgau.ru/kalendar-sobytij/event/145-nauchno-prakticheskaya-konf
 erentsiya
END:VEVENT
BEGIN:VEVENT
UID:20260420T173015+05-4167mAm1Un@https://urgau.ru/
DTSTAMP:20260420T123015Z
DESCRIPTION:Научно-практическая конференция 'Инновационное развитие аграрно
 го производства в современных условиях' (факультет инженерных технологий).
  https://urgau.ru/kalendar-sobytij/event/183-nauchno-prakticheskaya-konfer
 entsiya-innovatsionnoe-razvitie-agrarnogo-proizvodstva-v-sovremennykh-uslo
 viyakh
DTSTART;VALUE=DATE:20200219
LOCATION:Уральский ГАУ (г. Екатеринбург\, ул. К. Либкнехта\, 42)
SUMMARY:Научно-практическая конференция 'Инновационное развитие аграрного п
 роизводства в современных условиях'
URL:https://urgau.ru/kalendar-sobytij/event/183-nauchno-prakticheskaya-konf
 erentsiya-innovatsionnoe-razvitie-agrarnogo-proizvodstva-v-sovremennykh-us
 loviyakh
END:VEVENT
BEGIN:VEVENT
UID:20260420T173015+05-4169o7cENG@https://urgau.ru/
DTSTAMP:20260420T123015Z
DESCRIPTION:Студенческая научно-практическая конференция 'Развитие транспор
 тно-технологического комплекса' (факультет инженерных технологий). https:/
 /urgau.ru/kalendar-sobytij/event/184-studencheskaya-nauchno-prakticheskaya
 -konferentsiya-razvitie-transportno-tekhnologicheskogo-kompleksa
DTSTART;VALUE=DATE:20200219
LOCATION:Уральский ГАУ (г. Екатеринбург\, ул. К. Либкнехта\, 42)
SUMMARY:Студенческая научно-практическая конференция 'Развитие транспортно-
 технологического комплекса'
URL:https://urgau.ru/kalendar-sobytij/event/184-studencheskaya-nauchno-prak
 ticheskaya-konferentsiya-razvitie-transportno-tekhnologicheskogo-kompleksa
END:VEVENT
BEGIN:VEVENT
UID:20260420T173015+05-41717owgGh@https://urgau.ru/
DTSTAMP:20260420T123015Z
DESCRIPTION:Юбилейная выставка инновационных достижений Уральского ГАУ.&nbs
 p\;Время проведения: 09:00 - 10:00 ч. https://urgau.ru/kalendar-sobytij/ev
 ent/186-vystavka-innovatsionnykh-dostizhenij-uralskogo-gau
DTSTART;VALUE=DATE:20200219
LOCATION:Актовом зале (г. Екатеринбург\, ул. Тургенева\, 23)
SUMMARY:Выставка инновационных достижений Уральского ГАУ
URL:https://urgau.ru/kalendar-sobytij/event/186-vystavka-innovatsionnykh-do
 stizhenij-uralskogo-gau
END:VEVENT
BEGIN:VEVENT
UID:20260420T173015+05-4173saVvSs@https://urgau.ru/
DTSTAMP:20260420T123015Z
DESCRIPTION: https://urgau.ru/kalendar-sobytij/event/216-konkurs-motivatsio
 nnykh-plakatov-posterov-mir-nauki-i-innovatsij
DTSTART:20191125T044250Z
DTEND:20200229T144250Z
LOCATION:Уральский ГАУ (г. Екатеринбург\, ул. К. Либкнехта\, 42)
SUMMARY:Конкурс мотивационных плакатов (постеров)  «Мир науки и инноваций» 
URL:https://urgau.ru/kalendar-sobytij/event/216-konkurs-motivatsionnykh-pla
 katov-posterov-mir-nauki-i-innovatsij
END:VEVENT
END:VCALENDAR
