BEGIN:VCALENDAR
VERSION:2.0
PRODID:-//https://urgau.ru///NONSGML kigkonsult.se iCalcreator 2.10.15//
METHOD:PUBLISH
BEGIN:VEVENT
UID:20260421T191039+05-0911n5S9A1@https://urgau.ru/
DTSTAMP:20260421T141039Z
DESCRIPTION:Начало мероприятия: 15:00 ч.\n  https://urgau.ru/kalendar-sobyt
 ij/event/468-studencheskij-sportivnyj-prazdnik-a-nu-ka-parni
DTSTART;VALUE=DATE:20250219
LOCATION:Спортивном зале УрГАУ (г. Екатеринбург\, ул. Тургенева\, 23)
SUMMARY:Студенческий спортивный праздник 'А ну-ка\, парни!'
URL:https://urgau.ru/kalendar-sobytij/event/468-studencheskij-sportivnyj-pr
 azdnik-a-nu-ka-parni
END:VEVENT
END:VCALENDAR
