BEGIN:VCALENDAR
VERSION:2.0
PRODID:-//https://urgau.ru///NONSGML kigkonsult.se iCalcreator 2.10.15//
METHOD:PUBLISH
BEGIN:VEVENT
UID:20260424T153101+05-8705KrPvvW@https://urgau.ru/
DTSTAMP:20260424T103101Z
DESCRIPTION:Торжественные мероприятия\, посвященные юбилею университета про
 йдут во Дворце молодежи г. Екатеринбурга (пр. Ленина\, 1) . Начало: в 15:0
 0 ч. https://urgau.ru/kalendar-sobytij/event/146-torzhestvennye-meropriyat
 iya
DTSTART;VALUE=DATE:20200220
LOCATION: ()
SUMMARY:Торжественные мероприятия
URL:https://urgau.ru/kalendar-sobytij/event/146-torzhestvennye-meropriyatiy
 a
END:VEVENT
BEGIN:VEVENT
UID:20260424T153101+05-8708ExwLk2@https://urgau.ru/
DTSTAMP:20260424T103101Z
DESCRIPTION:Открытие лаборатории Микроклонального размножение и ДНК-техноло
 гий (факультет агротехнологий и землеустройства). Время проведения: 12:00 
 - 13:00 ч. https://urgau.ru/kalendar-sobytij/event/185-otkrytie-laboratori
 i-mikroklonalnogo-razmnozheniya-i-dnk-tekhnologij
DTSTART;VALUE=DATE:20200220
LOCATION:ауд. 4226 (г. Екатеринбург\, ул. Тургенева\, 23\, ауд. 4226)
SUMMARY:Открытие лаборатории Микроклонального размножения и ДНК-технологий 
URL:https://urgau.ru/kalendar-sobytij/event/185-otkrytie-laboratorii-mikrok
 lonalnogo-razmnozheniya-i-dnk-tekhnologij
END:VEVENT
BEGIN:VEVENT
UID:20260424T153101+05-8710mDoDbv@https://urgau.ru/
DTSTAMP:20260424T103101Z
DESCRIPTION: https://urgau.ru/kalendar-sobytij/event/204-otkrytie-spetsiali
 zirovannogo-klassa-ao-rosselkhozbank
DTSTART;VALUE=DATE:20200220
LOCATION:Уральский ГАУ (г. Екатеринбург\, ул. К. Либкнехта\, 42)
SUMMARY:Открытие специализированного класса АО «Россельхозбанк»
URL:https://urgau.ru/kalendar-sobytij/event/204-otkrytie-spetsializirovanno
 go-klassa-ao-rosselkhozbank
END:VEVENT
BEGIN:VEVENT
UID:20260424T153101+05-871107lv9c@https://urgau.ru/
DTSTAMP:20260424T103101Z
DESCRIPTION: https://urgau.ru/kalendar-sobytij/event/216-konkurs-motivatsio
 nnykh-plakatov-posterov-mir-nauki-i-innovatsij
DTSTART:20191125T044250Z
DTEND:20200229T144250Z
LOCATION:Уральский ГАУ (г. Екатеринбург\, ул. К. Либкнехта\, 42)
SUMMARY:Конкурс мотивационных плакатов (постеров)  «Мир науки и инноваций» 
URL:https://urgau.ru/kalendar-sobytij/event/216-konkurs-motivatsionnykh-pla
 katov-posterov-mir-nauki-i-innovatsij
END:VEVENT
END:VCALENDAR
