BEGIN:VCALENDAR
VERSION:2.0
PRODID:-//https://urgau.ru///NONSGML kigkonsult.se iCalcreator 2.10.15//
METHOD:PUBLISH
BEGIN:VEVENT
UID:20260421T221911+05-2991lkNOTI@https://urgau.ru/
DTSTAMP:20260421T171911Z
DESCRIPTION:Начало в 10:00 ч.\nПодробнее о мероприятии\n \n \n  https://urg
 au.ru/kalendar-sobytij/event/470-nauchno-prakticheskaya-konferentsiya-aktu
 alnye-voprosy-veterinarnoj-meditsiny
DTSTART;VALUE=DATE:20250221
LOCATION:Актовом зале (г. Екатеринбург\, ул. Тургенева\, 23)
SUMMARY:Научно-практическая конференция «Актуальные вопросы ветеринарной ме
 дицины»
URL:https://urgau.ru/kalendar-sobytij/event/470-nauchno-prakticheskaya-konf
 erentsiya-aktualnye-voprosy-veterinarnoj-meditsiny
END:VEVENT
END:VCALENDAR
