BEGIN:VCALENDAR
VERSION:2.0
PRODID:-//https://urgau.ru///NONSGML kigkonsult.se iCalcreator 2.10.15//
METHOD:PUBLISH
BEGIN:VEVENT
UID:20260423T214342+05-2592FpjxVH@https://urgau.ru/
DTSTAMP:20260423T164342Z
DESCRIPTION: https://urgau.ru/kalendar-sobytij/event/467-kontsert-tvorchesk
 ikh-kollektivov-universiteta-i-vuzov-goroda
DTSTART;VALUE=DATE:20250226
LOCATION:Актовом зале (г. Екатеринбург\, ул. Тургенева\, 23)
SUMMARY:Концерт творческих коллективов университета и вузов города
URL:https://urgau.ru/kalendar-sobytij/event/467-kontsert-tvorcheskikh-kolle
 ktivov-universiteta-i-vuzov-goroda
END:VEVENT
END:VCALENDAR
