BEGIN:VCALENDAR
VERSION:2.0
PRODID:-//https://urgau.ru///NONSGML kigkonsult.se iCalcreator 2.10.15//
METHOD:PUBLISH
BEGIN:VEVENT
UID:20260423T233100+05-8237ZdKWuB@https://urgau.ru/
DTSTAMP:20260423T183100Z
DESCRIPTION:Подробнее...\n \n  https://urgau.ru/kalendar-sobytij/event/481-
 den-otkrytykh-dverej-instituta-ekonomiki-finansov-i-menedzhmenta
DTSTART;VALUE=DATE:20250227
LOCATION:Уральский ГАУ (г. Екатеринбург\, ул. К. Либкнехта\, 42)
SUMMARY:День открытых дверей института экономики\, финансов и менеджмента
URL:https://urgau.ru/kalendar-sobytij/event/481-den-otkrytykh-dverej-instit
 uta-ekonomiki-finansov-i-menedzhmenta
END:VEVENT
END:VCALENDAR
