BEGIN:VCALENDAR
VERSION:2.0
PRODID:-//https://urgau.ru///NONSGML kigkonsult.se iCalcreator 2.10.15//
METHOD:PUBLISH
BEGIN:VEVENT
UID:20260424T012817+05-8754LkEhgO@https://urgau.ru/
DTSTAMP:20260423T202817Z
DESCRIPTION:Начало мероприятия в 14:30 ч. \nСтуденческое научное общество (
 СНО) проведёт: Доклады ученых - узнай\, как становятся учеными! Научный кв
 из - проверь свои знания и сразись за звание лучшего! Научное караоке - по
 кажи свои вокальные таланты!\n\n Вход по регистрации: https://urgau.timepa
 d.ru/event/3216609/\n  https://urgau.ru/kalendar-sobytij/event/478-vecher-
 nauki-v-urgau
DTSTART;VALUE=DATE:20250228
LOCATION:Холл актового зала (холл актового зала)
SUMMARY:Вечер науки в УрГАУ
URL:https://urgau.ru/kalendar-sobytij/event/478-vecher-nauki-v-urgau
END:VEVENT
END:VCALENDAR
