BEGIN:VCALENDAR
VERSION:2.0
PRODID:-//https://urgau.ru///NONSGML kigkonsult.se iCalcreator 2.10.15//
METHOD:PUBLISH
BEGIN:VEVENT
UID:20260424T032906+05-2660lhhlIH@https://urgau.ru/
DTSTAMP:20260423T222906Z
DESCRIPTION: Время проведения: 11:00 ч.\n \n  https://urgau.ru/kalendar-sob
 ytij/event/477-den-otkrytykh-dverej-fakulteta-biotekhnologii-i-pishchevoj-
 inzhenerii
DTSTART;VALUE=DATE:20250301
LOCATION:п.Исток. ул.Главная\, 17б ()
SUMMARY:День открытых дверей факультета биотехнологии и пищевой инженерии
URL:https://urgau.ru/kalendar-sobytij/event/477-den-otkrytykh-dverej-fakult
 eta-biotekhnologii-i-pishchevoj-inzhenerii
END:VEVENT
BEGIN:VEVENT
UID:20260424T032906+05-26643KaJwU@https://urgau.ru/
DTSTAMP:20260423T222906Z
DESCRIPTION:Отборочный тур с 1.03 по 30.04 2025 г.\nПодробнее...\n \n  http
 s://urgau.ru/kalendar-sobytij/event/479-start-vserossijskoj-olimpiady-dlya
 -shkolnikov-imeni-pervogo-rektora-uralskogo-gau-o-a-ivanovoj
DTSTART;VALUE=DATE:20250301
LOCATION:Уральский ГАУ (г. Екатеринбург\, ул. К. Либкнехта\, 42)
SUMMARY:Старт Всероссийской олимпиады для школьников имени первого ректора 
 Уральского ГАУ О. А. Ивановой
URL:https://urgau.ru/kalendar-sobytij/event/479-start-vserossijskoj-olimpia
 dy-dlya-shkolnikov-imeni-pervogo-rektora-uralskogo-gau-o-a-ivanovoj
END:VEVENT
END:VCALENDAR
