BEGIN:VCALENDAR
VERSION:2.0
PRODID:-//https://urgau.ru///NONSGML kigkonsult.se iCalcreator 2.10.15//
METHOD:PUBLISH
BEGIN:VEVENT
UID:20260424T154039+05-4490P3BOMe@https://urgau.ru/
DTSTAMP:20260424T104039Z
DESCRIPTION:18.03.2020 г. с 11:00 до 15:00 ч. состоится экспресс-тестирован
 ие на ВИЧ. https://urgau.ru/kalendar-sobytij/event/243-ekspress-testirovan
 ie-na-vich
DTSTART;VALUE=DATE:20200318
LOCATION:Танцевальный класс УрГАУ (ул. Тургенева\, 23)
SUMMARY:Экспресс-тестирование на ВИЧ
URL:https://urgau.ru/kalendar-sobytij/event/243-ekspress-testirovanie-na-vi
 ch
END:VEVENT
BEGIN:VEVENT
UID:20260424T154039+05-4493UOij4e@https://urgau.ru/
DTSTAMP:20260424T104039Z
DESCRIPTION:18.03.2020 г. в 16:00 ч. - поэтическая гостиная 'Мы помним'. ht
 tps://urgau.ru/kalendar-sobytij/event/244-poeticheskaya-gostinaya-my-pomni
 m
DTSTART;VALUE=DATE:20200318
LOCATION:Актовом зале (г. Екатеринбург\, ул. Тургенева\, 23)
SUMMARY:Поэтическая гостиная 'Мы помним'
URL:https://urgau.ru/kalendar-sobytij/event/244-poeticheskaya-gostinaya-my-
 pomnim
END:VEVENT
BEGIN:VEVENT
UID:20260424T154039+05-4495sD5TJU@https://urgau.ru/
DTSTAMP:20260424T104039Z
DESCRIPTION:В рамках мероприятия 'Лидер студенчества' 18.03.2020 г. с 16:00
  до 18:00 ч. состоится лекция 'Структура профбюро'. https://urgau.ru/kalen
 dar-sobytij/event/245-lektsiya-struktura-profbyuro
DTSTART;VALUE=DATE:20200318
LOCATION:Уральский ГАУ (г. Екатеринбург\, ул. К. Либкнехта\, 42)
SUMMARY:Лекция 'Структура Профбюро'
URL:https://urgau.ru/kalendar-sobytij/event/245-lektsiya-struktura-profbyur
 o
END:VEVENT
END:VCALENDAR
