BEGIN:VCALENDAR
VERSION:2.0
PRODID:-//https://urgau.ru///NONSGML kigkonsult.se iCalcreator 2.10.15//
METHOD:PUBLISH
BEGIN:VEVENT
UID:20260420T191655+05-13632nJJ2V@https://urgau.ru/
DTSTAMP:20260420T141655Z
DESCRIPTION: https://urgau.ru/kalendar-sobytij/event/195-vserossijskaya-nau
 chno-prakticheskaya-konferentsiya-dlya-shkolnikov-na-puti-k-poznaniyu
DTSTART;VALUE=DATE:20200325
LOCATION:Уральский ГАУ (г. Екатеринбург\, ул. К. Либкнехта\, 42)
SUMMARY:Всероссийская научно-практическая конференция для школьников 'На пу
 ти к познанию'
URL:https://urgau.ru/kalendar-sobytij/event/195-vserossijskaya-nauchno-prak
 ticheskaya-konferentsiya-dlya-shkolnikov-na-puti-k-poznaniyu
END:VEVENT
BEGIN:VEVENT
UID:20260420T191655+05-1365c462UP@https://urgau.ru/
DTSTAMP:20260420T141655Z
DESCRIPTION:27 января - 13 февраля - заявочная кампания Лидер Студенчества 
 УрГАУ 2020.\n16 февраля - старт Лидер Студенчества УрГАУ 2020 (собеседован
 ие).\n25 марта - финал Лидер Студенчества УрГАУ 2020. https://urgau.ru/kal
 endar-sobytij/event/214-lider-studenchestva-urgau-2020
DTSTART;VALUE=DATE:20200325
LOCATION:Уральский ГАУ (г. Екатеринбург\, ул. К. Либкнехта\, 42)
SUMMARY:Лидер Студенчества УрГАУ 2020
URL:https://urgau.ru/kalendar-sobytij/event/214-lider-studenchestva-urgau-2
 020
END:VEVENT
BEGIN:VEVENT
UID:20260420T191655+05-1366k8gAJe@https://urgau.ru/
DTSTAMP:20260420T141655Z
DESCRIPTION:Международная научно-практическая конференция студентов\, аспир
 антов и молодых ученых 'Молодежь и наука-2020'.\nФакультет инженерных техн
 ологий. https://urgau.ru/kalendar-sobytij/event/235-molodezh-i-nauka-2020
DTSTART;VALUE=DATE:20200325
LOCATION:Уральский ГАУ (г. Екатеринбург\, ул. К. Либкнехта\, 42)
SUMMARY:'Молодежь и наука-2020'
URL:https://urgau.ru/kalendar-sobytij/event/235-molodezh-i-nauka-2020
END:VEVENT
END:VCALENDAR
