BEGIN:VCALENDAR
VERSION:2.0
PRODID:-//https://urgau.ru///NONSGML kigkonsult.se iCalcreator 2.10.15//
METHOD:PUBLISH
BEGIN:VEVENT
UID:20260424T153216+05-2711cuoVvi@https://urgau.ru/
DTSTAMP:20260424T103216Z
DESCRIPTION:На факультете биотехнологии и пищевой инженерии (тел. для справ
 ок 8 (343) 252-72-53).\nНа факультете ветеринарной медицины и экспертизы (
 тел. для справок 8 (343) 221-40-24).\nВремя проведения: 10:00 - 13:00 ч. h
 ttps://urgau.ru/kalendar-sobytij/event/151-universitetskie-subboty
DTSTART;VALUE=DATE:20200328
LOCATION:Уральский ГАУ (г. Екатеринбург\, ул. К. Либкнехта\, 42)
SUMMARY:Университетские субботы
URL:https://urgau.ru/kalendar-sobytij/event/151-universitetskie-subboty
END:VEVENT
BEGIN:VEVENT
UID:20260424T153216+05-27165vtkMN@https://urgau.ru/
DTSTAMP:20260424T103216Z
DESCRIPTION:10.00 - 13.00 ч. - факультет биотехнологии и пищевой инженерии\
 ; факультет ветеринарной медицины и экспертизы https://urgau.ru/kalendar-s
 obytij/event/230-universitetskie-subboty
DTSTART;VALUE=DATE:20200328
LOCATION:Уральский ГАУ (г. Екатеринбург\, ул. К. Либкнехта\, 42)
SUMMARY:Университетские субботы
URL:https://urgau.ru/kalendar-sobytij/event/230-universitetskie-subboty
END:VEVENT
END:VCALENDAR
