BEGIN:VCALENDAR
VERSION:2.0
PRODID:-//https://urgau.ru///NONSGML kigkonsult.se iCalcreator 2.10.15//
METHOD:PUBLISH
BEGIN:VEVENT
UID:20260425T040941+05-3858DUhT3U@https://urgau.ru/
DTSTAMP:20260424T230941Z
DESCRIPTION:Место проведения: актовый зал (ул.Тургенева\, 23).\nНачало в 14
 :00 ч.\n \n\n  https://urgau.ru/kalendar-sobytij/event/419-otchetnyj-konts
 ert-studentov-fspo-raznoe-na-raznom
DTSTART;VALUE=DATE:20240530
LOCATION:Уральский ГАУ (г. Екатеринбург\, ул. К. Либкнехта\, 42)
SUMMARY:Отчетный концерт студентов ФСПО 'Разное на разном'
URL:https://urgau.ru/kalendar-sobytij/event/419-otchetnyj-kontsert-studento
 v-fspo-raznoe-na-raznom
END:VEVENT
BEGIN:VEVENT
UID:20260425T040941+05-3860KsIxZd@https://urgau.ru/
DTSTAMP:20260424T230941Z
DESCRIPTION:Начало в 15:00 ч.\n https://urgau.ru/kalendar-sobytij/event/420
 -zasedanie-uchenogo-soveta
DTSTART;VALUE=DATE:20240530
LOCATION:Зале Ученого совета (г. Екатеринбург\, ул. К. Либкнехта\, 42\, ауд
 . 1203)
SUMMARY:Заседание Ученого совета
URL:https://urgau.ru/kalendar-sobytij/event/420-zasedanie-uchenogo-soveta
END:VEVENT
END:VCALENDAR
