BEGIN:VCALENDAR
VERSION:2.0
PRODID:-//https://urgau.ru///NONSGML kigkonsult.se iCalcreator 2.10.15//
METHOD:PUBLISH
BEGIN:VEVENT
UID:20260423T161524+05-0949gSfP8t@https://urgau.ru/
DTSTAMP:20260423T111524Z
DESCRIPTION:Начало мероприятия в 10:00 ч.\nМесто проведения: ул. Тургенева\
 , 23\, ауд. 4516\n \n  https://urgau.ru/kalendar-sobytij/event/423-oblastn
 aya-agroinzhenernaya-shkola
DTSTART:20240616T210000Z
DTEND:20240619T113109Z
LOCATION:Уральский ГАУ (г. Екатеринбург\, ул. К. Либкнехта\, 42)
SUMMARY:Областная агроинженерная школа
URL:https://urgau.ru/kalendar-sobytij/event/423-oblastnaya-agroinzhenernaya
 -shkola
END:VEVENT
END:VCALENDAR
