BEGIN:VCALENDAR
VERSION:2.0
PRODID:-//https://urgau.ru///NONSGML kigkonsult.se iCalcreator 2.10.15//
METHOD:PUBLISH
BEGIN:VEVENT
UID:20260421T040406+05-2258eEUTxE@https://urgau.ru/
DTSTAMP:20260420T230406Z
DESCRIPTION:Начало в 15:00 ч.\n https://urgau.ru/kalendar-sobytij/event/424
 -zasedanie-uchenogo-soveta
DTSTART;VALUE=DATE:20240625
LOCATION:Зале Ученого совета (г. Екатеринбург\, ул. К. Либкнехта\, 42\, ауд
 . 1203)
SUMMARY:Заседание Ученого совета
URL:https://urgau.ru/kalendar-sobytij/event/424-zasedanie-uchenogo-soveta
END:VEVENT
END:VCALENDAR
