BEGIN:VCALENDAR
VERSION:2.0
PRODID:-//https://urgau.ru///NONSGML kigkonsult.se iCalcreator 2.10.15//
METHOD:PUBLISH
BEGIN:VEVENT
UID:20260420T173440+05-3684V6ux6U@https://urgau.ru/
DTSTAMP:20260420T123440Z
DESCRIPTION:Начало мероприятия в 12:00 ч.\n \n \n  https://urgau.ru/kalenda
 r-sobytij/event/422-torzhestvennoe-vruchenie-diplomov-studentam-spo
DTSTART;VALUE=DATE:20240702
LOCATION:Актовом зале (г. Екатеринбург\, ул. Тургенева\, 23)
SUMMARY:Торжественное вручение дипломов студентам СПО
URL:https://urgau.ru/kalendar-sobytij/event/422-torzhestvennoe-vruchenie-di
 plomov-studentam-spo
END:VEVENT
END:VCALENDAR
