BEGIN:VCALENDAR
VERSION:2.0
PRODID:-//https://urgau.ru///NONSGML kigkonsult.se iCalcreator 2.10.15//
METHOD:PUBLISH
BEGIN:VEVENT
UID:20260426T072554+05-2335uhk0VR@https://urgau.ru/
DTSTAMP:20260426T022554Z
DESCRIPTION:С 14:00 ч. до 15:00 ч.\n  https://urgau.ru/kalendar-sobytij/eve
 nt/537-master-klass-dlya-studentov-tsifrovye-resursy-v-pomoshch-uchebe
DTSTART;VALUE=DATE:20260318
LOCATION:ауд. 5208 (ауд. 5208)
SUMMARY:Мастер-класс для студентов «Цифровые ресурсы в помощь учебе»
URL:https://urgau.ru/kalendar-sobytij/event/537-master-klass-dlya-studentov
 -tsifrovye-resursy-v-pomoshch-uchebe
END:VEVENT
END:VCALENDAR
