BEGIN:VCALENDAR
VERSION:2.0
PRODID:-//https://urgau.ru///NONSGML kigkonsult.se iCalcreator 2.10.15//
METHOD:PUBLISH
BEGIN:VEVENT
UID:20260426T032417+05-4707D7Vr2Z@https://urgau.ru/
DTSTAMP:20260425T222417Z
DESCRIPTION:Начало мероприятия в 10:00 ч.\n  https://urgau.ru/kalendar-soby
 tij/event/508-yarmarka-vakansij
DTSTART;VALUE=DATE:20260415
LOCATION:Актовом зале (г. Екатеринбург\, ул. Тургенева\, 23)
SUMMARY:Ярмарка вакансий
URL:https://urgau.ru/kalendar-sobytij/event/508-yarmarka-vakansij
END:VEVENT
BEGIN:VEVENT
UID:20260426T032417+05-47098cw5He@https://urgau.ru/
DTSTAMP:20260425T222417Z
DESCRIPTION:Место проведения: Екатеринбург\, Тургенева\, 23.\nПодробнее...
 \n \n  https://urgau.ru/kalendar-sobytij/event/535-den-otkrytykh-dverej-ur
 alskogo-gau
DTSTART;VALUE=DATE:20260418
LOCATION:Актовом зале (г. Екатеринбург\, ул. Тургенева\, 23)
SUMMARY:День открытых дверей Уральского ГАУ
URL:https://urgau.ru/kalendar-sobytij/event/535-den-otkrytykh-dverej-uralsk
 ogo-gau
END:VEVENT
BEGIN:VEVENT
UID:20260426T032417+05-4710h5wkf0@https://urgau.ru/
DTSTAMP:20260425T222417Z
DESCRIPTION: \n  https://urgau.ru/kalendar-sobytij/event/541-spartakiada-ag
 roliga-fakultetov
DTSTART:20260406T210000Z
DTEND:20260430T084359Z
LOCATION:Спортивном зале УрГАУ (г. Екатеринбург\, ул. Тургенева\, 23)
SUMMARY:Спартакиада 'АгроЛига факультетов'
URL:https://urgau.ru/kalendar-sobytij/event/541-spartakiada-agroliga-fakult
 etov
END:VEVENT
END:VCALENDAR
