BEGIN:VCALENDAR
VERSION:2.0
PRODID:-//https://urgau.ru///NONSGML kigkonsult.se iCalcreator 2.10.15//
METHOD:PUBLISH
BEGIN:VEVENT
UID:20260420T192018+05-6259eR3DmL@https://urgau.ru/
DTSTAMP:20260420T142018Z
DESCRIPTION:Место проведения: Екатеринбург\, Тургенева\, 23.\nНачало в 11:0
 0 ч.\n \nПодробнее о мероприятии\n  https://urgau.ru/kalendar-sobytij/even
 t/406-den-otkrytykh-dverej-uralskogo-gau
DTSTART;VALUE=DATE:20240420
LOCATION:Уральский ГАУ (г. Екатеринбург\, ул. К. Либкнехта\, 42)
SUMMARY:День открытых дверей Уральского ГАУ
URL:https://urgau.ru/kalendar-sobytij/event/406-den-otkrytykh-dverej-uralsk
 ogo-gau
END:VEVENT
END:VCALENDAR
