BEGIN:VCALENDAR
VERSION:2.0
PRODID:-//https://urgau.ru///NONSGML kigkonsult.se iCalcreator 2.10.15//
METHOD:PUBLISH
BEGIN:VEVENT
UID:20260420T173453+05-4302L5pVPc@https://urgau.ru/
DTSTAMP:20260420T123453Z
DESCRIPTION:Начало 10:00 - 16:00 ч.\nУральский государственный аграрный уни
 верситет проводит выставку-продажу. В рамках выставки состоится конференци
 я для садоводов «Достижения науки — садоводам Урала».\nРазделы выставки:- 
 Семена\, семенной картофель\, удобрения\, средства защиты растений\, биопр
 епараты.- Посадочный материал. Природное земледелие.- Садовые и комнатные 
 цветы.- Товары для сада и отдыха.\n- Программа региональной научно-практич
 еской конференции «Достижения науки – садоводам Урала»\, 26-27 апреля 2024
  года\nВыставка состоится по адресу: Уральский государственный аграрный ун
 иверситет\, г. Екатеринбург\, ул. Тургенева\, д. 23\, 2 этаж.\nВход свобод
 ный по документу\, удостоверяющему личность.\n https://urgau.ru/kalendar-s
 obytij/event/407-vystavka-prodazha-sadovodam-urala-konferentsiya-dostizhen
 iya-nauki-sadovodam-urala
DTSTART:20240425T210000Z
DTEND:20240427T071810Z
LOCATION:Актовом зале (г. Екатеринбург\, ул. Тургенева\, 23)
SUMMARY:Выставка-продажа садоводам Урала. Конференция «Достижения науки - с
 адоводам Урала»
URL:https://urgau.ru/kalendar-sobytij/event/407-vystavka-prodazha-sadovodam
 -urala-konferentsiya-dostizheniya-nauki-sadovodam-urala
END:VEVENT
BEGIN:VEVENT
UID:20260420T173453+05-43063OV5CT@https://urgau.ru/
DTSTAMP:20260420T123453Z
DESCRIPTION: Начало мероприятия в 14:00 ч. https://urgau.ru/kalendar-sobyti
 j/event/408-vstrecha-s-zamestitelem-ministra-po-obrazovaniyu-i-molodezhnoj
 -politike-sverdlovskoj-oblasti-denisom-protasovym
DTSTART;VALUE=DATE:20240424
LOCATION:Актовом зале (г. Екатеринбург\, ул. Тургенева\, 23)
SUMMARY:Встреча с заместителем Министра по образованию и молодежной политик
 е Свердловской области Денисом Протасовым
URL:https://urgau.ru/kalendar-sobytij/event/408-vstrecha-s-zamestitelem-min
 istra-po-obrazovaniyu-i-molodezhnoj-politike-sverdlovskoj-oblasti-denisom-
 protasovym
END:VEVENT
BEGIN:VEVENT
UID:20260420T173453+05-4308FCH1T2@https://urgau.ru/
DTSTAMP:20260420T123453Z
DESCRIPTION:Начало 15:00 ч.\n https://urgau.ru/kalendar-sobytij/event/409-u
 chenyj-sovet
DTSTART;VALUE=DATE:20240425
LOCATION:Зале Ученого совета (г. Екатеринбург\, ул. К. Либкнехта\, 42\, ауд
 . 1203)
SUMMARY:Ученый совет
URL:https://urgau.ru/kalendar-sobytij/event/409-uchenyj-sovet
END:VEVENT
BEGIN:VEVENT
UID:20260420T173453+05-4309t21RA0@https://urgau.ru/
DTSTAMP:20260420T123453Z
DESCRIPTION: Начало мероприятия: 14:00 ч. https://urgau.ru/kalendar-sobytij
 /event/410-diktant-pobedy
DTSTART;VALUE=DATE:20240425
LOCATION:Ауд. 1402 (г. Екатеринбург\, ул. К. Либкнехта\, 42)
SUMMARY:Диктант Победы
URL:https://urgau.ru/kalendar-sobytij/event/410-diktant-pobedy
END:VEVENT
END:VCALENDAR
