BEGIN:VCALENDAR
VERSION:2.0
PRODID:-//https://urgau.ru///NONSGML kigkonsult.se iCalcreator 2.10.15//
METHOD:PUBLISH
BEGIN:VEVENT
UID:20260423T175414+05-3328eLFlkD@https://urgau.ru/
DTSTAMP:20260423T125414Z
DESCRIPTION: \n \n  https://urgau.ru/kalendar-sobytij/event/428-vserossijsk
 ij-den-bega-kross-natsii-2024
DTSTART;VALUE=DATE:20240921
LOCATION:Уральский ГАУ (г. Екатеринбург\, ул. К. Либкнехта\, 42)
SUMMARY:Всероссийский День бега 'Кросс нации - 2024'
URL:https://urgau.ru/kalendar-sobytij/event/428-vserossijskij-den-bega-kros
 s-natsii-2024
END:VEVENT
BEGIN:VEVENT
UID:20260423T175414+05-3330Uieph2@https://urgau.ru/
DTSTAMP:20260423T125414Z
DESCRIPTION: Сбор и отправка гуманитарной помощи жителям Курска\n \n  https
 ://urgau.ru/kalendar-sobytij/event/433-patrioticheskaya-aktsiya-my-s-vami-
 kursk
DTSTART:20240831T210000Z
DTEND:20240930T153352Z
LOCATION:Уральский ГАУ (г. Екатеринбург\, ул. К. Либкнехта\, 42)
SUMMARY:Патриотическая акция 'Мы с вами\, Курск!'
URL:https://urgau.ru/kalendar-sobytij/event/433-patrioticheskaya-aktsiya-my
 -s-vami-kursk
END:VEVENT
END:VCALENDAR
