BEGIN:VCALENDAR
VERSION:2.0
PRODID:-//https://urgau.ru///NONSGML kigkonsult.se iCalcreator 2.10.15//
METHOD:PUBLISH
BEGIN:VEVENT
UID:20260423T195013+05-3419Fr5V0R@https://urgau.ru/
DTSTAMP:20260423T145013Z
DESCRIPTION: ауд. 1402\n \n  https://urgau.ru/kalendar-sobytij/event/426-tr
 ening-predprinimatelskikh-kompetentsij
DTSTART;VALUE=DATE:20240926
LOCATION:Уральский ГАУ (г. Екатеринбург\, ул. К. Либкнехта\, 42)
SUMMARY:Тренинг предпринимательских компетенций
URL:https://urgau.ru/kalendar-sobytij/event/426-trening-predprinimatelskikh
 -kompetentsij
END:VEVENT
BEGIN:VEVENT
UID:20260423T195013+05-3422BVe3ce@https://urgau.ru/
DTSTAMP:20260423T145013Z
DESCRIPTION: \n \n  https://urgau.ru/kalendar-sobytij/event/427-vserossijsk
 aya-aktsiya-studzabeg
DTSTART;VALUE=DATE:20240926
LOCATION:Уральский ГАУ (г. Екатеринбург\, ул. К. Либкнехта\, 42)
SUMMARY:Всероссийская акция 'Студзабег'
URL:https://urgau.ru/kalendar-sobytij/event/427-vserossijskaya-aktsiya-stud
 zabeg
END:VEVENT
BEGIN:VEVENT
UID:20260423T195013+05-3423IMR2Tp@https://urgau.ru/
DTSTAMP:20260423T145013Z
DESCRIPTION: Сбор и отправка гуманитарной помощи жителям Курска\n \n  https
 ://urgau.ru/kalendar-sobytij/event/433-patrioticheskaya-aktsiya-my-s-vami-
 kursk
DTSTART:20240831T210000Z
DTEND:20240930T153352Z
LOCATION:Уральский ГАУ (г. Екатеринбург\, ул. К. Либкнехта\, 42)
SUMMARY:Патриотическая акция 'Мы с вами\, Курск!'
URL:https://urgau.ru/kalendar-sobytij/event/433-patrioticheskaya-aktsiya-my
 -s-vami-kursk
END:VEVENT
BEGIN:VEVENT
UID:20260423T195013+05-3425FuCmlP@https://urgau.ru/
DTSTAMP:20260423T145013Z
DESCRIPTION: начало в 14:00 ч.\n \n  https://urgau.ru/kalendar-sobytij/even
 t/439-konferentsiya-rabotnikov-i-obuchayushchikhsya-universiteta
DTSTART;VALUE=DATE:20240926
LOCATION:Актовом зале (г. Екатеринбург\, ул. Тургенева\, 23)
SUMMARY:Конференция работников и обучающихся университета
URL:https://urgau.ru/kalendar-sobytij/event/439-konferentsiya-rabotnikov-i-
 obuchayushchikhsya-universiteta
END:VEVENT
END:VCALENDAR
