BEGIN:VCALENDAR
VERSION:2.0
PRODID:-//https://urgau.ru///NONSGML kigkonsult.se iCalcreator 2.10.15//
METHOD:PUBLISH
BEGIN:VEVENT
UID:20260423T212917+05-4076suwo0n@https://urgau.ru/
DTSTAMP:20260423T162917Z
DESCRIPTION:Начало в 14:00 ч.\n \n  https://urgau.ru/kalendar-sobytij/event
 /429-kontsert-studencheskikh-tvorcheskikh-kollektivov-posvyashchennyj-mezh
 dunarodnomu-dnyu-uchitelya
DTSTART;VALUE=DATE:20241003
LOCATION:Актовом зале (г. Екатеринбург\, ул. Тургенева\, 23)
SUMMARY:Концерт студенческих творческих коллективов\, посвященный Междунаро
 дному Дню учителя
URL:https://urgau.ru/kalendar-sobytij/event/429-kontsert-studencheskikh-tvo
 rcheskikh-kollektivov-posvyashchennyj-mezhdunarodnomu-dnyu-uchitelya
END:VEVENT
BEGIN:VEVENT
UID:20260423T212917+05-4080F06DHo@https://urgau.ru/
DTSTAMP:20260423T162917Z
DESCRIPTION: \n \n  https://urgau.ru/kalendar-sobytij/event/430-ekskursii-d
 lya-studentov-v-multimedijnyj-istoricheskij-park-rossiya-moya-istoriya-sve
 rdlovskaya-oblast
DTSTART:20240930T210000Z
DTEND:20241031T093817Z
LOCATION: ()
SUMMARY:Экскурсии для студентов в мультимедийный исторический парк 'Россия 
 - Моя История. Свердловская область'
URL:https://urgau.ru/kalendar-sobytij/event/430-ekskursii-dlya-studentov-v-
 multimedijnyj-istoricheskij-park-rossiya-moya-istoriya-sverdlovskaya-oblas
 t
END:VEVENT
BEGIN:VEVENT
UID:20260423T212917+05-4082DvtHTr@https://urgau.ru/
DTSTAMP:20260423T162917Z
DESCRIPTION: \n \n  https://urgau.ru/kalendar-sobytij/event/432-mezhfakulte
 tskaya-kompleksnaya-spartakiada
DTSTART:20240930T210000Z
DTEND:20241031T094155Z
LOCATION:Спортивном зале УрГАУ (г. Екатеринбург\, ул. Тургенева\, 23)
SUMMARY:Межфакультетская комплексная спартакиада
URL:https://urgau.ru/kalendar-sobytij/event/432-mezhfakultetskaya-kompleksn
 aya-spartakiada
END:VEVENT
BEGIN:VEVENT
UID:20260423T212917+05-4083oOJUvG@https://urgau.ru/
DTSTAMP:20260423T162917Z
DESCRIPTION: Сбор и отправка гуманитарной помощи жителям Курска\n \n  https
 ://urgau.ru/kalendar-sobytij/event/433-patrioticheskaya-aktsiya-my-s-vami-
 kursk
DTSTART:20240831T210000Z
DTEND:20240930T153352Z
LOCATION:Уральский ГАУ (г. Екатеринбург\, ул. К. Либкнехта\, 42)
SUMMARY:Патриотическая акция 'Мы с вами\, Курск!'
URL:https://urgau.ru/kalendar-sobytij/event/433-patrioticheskaya-aktsiya-my
 -s-vami-kursk
END:VEVENT
END:VCALENDAR
