BEGIN:VCALENDAR
VERSION:2.0
PRODID:-//https://urgau.ru///NONSGML kigkonsult.se iCalcreator 2.10.15//
METHOD:PUBLISH
BEGIN:VEVENT
UID:20260424T025512+05-5350swtBof@https://urgau.ru/
DTSTAMP:20260423T215512Z
DESCRIPTION: \n \n  https://urgau.ru/kalendar-sobytij/event/430-ekskursii-d
 lya-studentov-v-multimedijnyj-istoricheskij-park-rossiya-moya-istoriya-sve
 rdlovskaya-oblast
DTSTART:20240930T210000Z
DTEND:20241031T093817Z
LOCATION: ()
SUMMARY:Экскурсии для студентов в мультимедийный исторический парк 'Россия 
 - Моя История. Свердловская область'
URL:https://urgau.ru/kalendar-sobytij/event/430-ekskursii-dlya-studentov-v-
 multimedijnyj-istoricheskij-park-rossiya-moya-istoriya-sverdlovskaya-oblas
 t
END:VEVENT
BEGIN:VEVENT
UID:20260424T025512+05-5353PUku1h@https://urgau.ru/
DTSTAMP:20260423T215512Z
DESCRIPTION: \n \n  https://urgau.ru/kalendar-sobytij/event/431-den-pervoku
 rsnika-uralskogo-gau-2024
DTSTART;VALUE=DATE:20241024
LOCATION:Актовом зале (г. Екатеринбург\, ул. Тургенева\, 23)
SUMMARY:День первокурсника Уральского ГАУ - 2024
URL:https://urgau.ru/kalendar-sobytij/event/431-den-pervokursnika-uralskogo
 -gau-2024
END:VEVENT
BEGIN:VEVENT
UID:20260424T025512+05-5354lWM7Uj@https://urgau.ru/
DTSTAMP:20260423T215512Z
DESCRIPTION: \n \n  https://urgau.ru/kalendar-sobytij/event/432-mezhfakulte
 tskaya-kompleksnaya-spartakiada
DTSTART:20240930T210000Z
DTEND:20241031T094155Z
LOCATION:Спортивном зале УрГАУ (г. Екатеринбург\, ул. Тургенева\, 23)
SUMMARY:Межфакультетская комплексная спартакиада
URL:https://urgau.ru/kalendar-sobytij/event/432-mezhfakultetskaya-kompleksn
 aya-spartakiada
END:VEVENT
BEGIN:VEVENT
UID:20260424T025512+05-53558a9SUU@https://urgau.ru/
DTSTAMP:20260423T215512Z
DESCRIPTION:Место проведения: Екатеринбург\, Тургенева\, 23.\nНачало в 11:0
 0 ч.\n \n  https://urgau.ru/kalendar-sobytij/event/440-den-otkrytykh-dvere
 j-uralskogo-gau
DTSTART;VALUE=DATE:20241026
LOCATION:Актовом зале (г. Екатеринбург\, ул. Тургенева\, 23)
SUMMARY:День открытых дверей Уральского ГАУ
URL:https://urgau.ru/kalendar-sobytij/event/440-den-otkrytykh-dverej-uralsk
 ogo-gau
END:VEVENT
BEGIN:VEVENT
UID:20260424T025512+05-5357XHmkbF@https://urgau.ru/
DTSTAMP:20260423T215512Z
DESCRIPTION:Место проведения: Екатеринбург\, Тургенева\, 23.\nНачало в 10:0
 0 ч.\n \n  https://urgau.ru/kalendar-sobytij/event/441-torzhestvennoe-posv
 yashchenie-v-agroklassniki
DTSTART;VALUE=DATE:20241026
LOCATION:Уральский ГАУ (г. Екатеринбург\, ул. К. Либкнехта\, 42)
SUMMARY:Торжественное посвящение в агроклассники
URL:https://urgau.ru/kalendar-sobytij/event/441-torzhestvennoe-posvyashchen
 ie-v-agroklassniki
END:VEVENT
END:VCALENDAR
