BEGIN:VCALENDAR
VERSION:2.0
PRODID:-//https://urgau.ru///NONSGML kigkonsult.se iCalcreator 2.10.15//
METHOD:PUBLISH
BEGIN:VEVENT
UID:20260424T121635+05-7235ABnx9f@https://urgau.ru/
DTSTAMP:20260424T071635Z
DESCRIPTION: \n \n  https://urgau.ru/kalendar-sobytij/event/434-vystavka-pr
 odazha-dary-oseni
DTSTART:20241128T210000Z
DTEND:20241130T153352Z
LOCATION:Уральский ГАУ (г. Екатеринбург\, ул. К. Либкнехта\, 42)
SUMMARY:Выставка-продажа 'Дары осени'
URL:https://urgau.ru/kalendar-sobytij/event/434-vystavka-prodazha-dary-osen
 i
END:VEVENT
BEGIN:VEVENT
UID:20260424T121635+05-72388XnUfL@https://urgau.ru/
DTSTAMP:20260424T071635Z
DESCRIPTION:Начало мероприятия в 16:00 ч.\n \n  https://urgau.ru/kalendar-s
 obytij/event/443-den-agronoma
DTSTART;VALUE=DATE:20241129
LOCATION:Актовом зале (г. Екатеринбург\, ул. Тургенева\, 23)
SUMMARY:День агронома
URL:https://urgau.ru/kalendar-sobytij/event/443-den-agronoma
END:VEVENT
BEGIN:VEVENT
UID:20260424T121635+05-7239WAdPPG@https://urgau.ru/
DTSTAMP:20260424T071635Z
DESCRIPTION:Соревнования по баскетболу.\nНачало в 16:00 ч.\n \n  https://ur
 gau.ru/kalendar-sobytij/event/446-spartakiada
DTSTART;VALUE=DATE:20241125
LOCATION:Спортивном зале УрГАУ (г. Екатеринбург\, ул. Тургенева\, 23)
SUMMARY:Спартакиада
URL:https://urgau.ru/kalendar-sobytij/event/446-spartakiada
END:VEVENT
BEGIN:VEVENT
UID:20260424T121635+05-7240zlHl7T@https://urgau.ru/
DTSTAMP:20260424T071635Z
DESCRIPTION:Соревнования по баскетболу.\nНачало в 16:00 ч.\n \n  https://ur
 gau.ru/kalendar-sobytij/event/447-spartakiada
DTSTART;VALUE=DATE:20241127
LOCATION:Спортивном зале УрГАУ (г. Екатеринбург\, ул. Тургенева\, 23)
SUMMARY:Спартакиада
URL:https://urgau.ru/kalendar-sobytij/event/447-spartakiada
END:VEVENT
BEGIN:VEVENT
UID:20260424T121635+05-72410Kd7rf@https://urgau.ru/
DTSTAMP:20260424T071635Z
DESCRIPTION:Соревнования по бадминтону.\nНачало в 16:00 ч.\n \n  https://ur
 gau.ru/kalendar-sobytij/event/448-spartakiada
DTSTART;VALUE=DATE:20241129
LOCATION:Спортивном зале УрГАУ (г. Екатеринбург\, ул. Тургенева\, 23)
SUMMARY:Спартакиада
URL:https://urgau.ru/kalendar-sobytij/event/448-spartakiada
END:VEVENT
BEGIN:VEVENT
UID:20260424T121635+05-7242nvGC2L@https://urgau.ru/
DTSTAMP:20260424T071635Z
DESCRIPTION: Начало конференции в 10:00 ч.\n \n  https://urgau.ru/kalendar-
 sobytij/event/450-studencheskaya-konferentsiya-posvyashchennaya-dnyu-inzhe
 nera-mekhanika
DTSTART;VALUE=DATE:20241128
LOCATION: ()
SUMMARY:Студенческая конференция\, посвященная Дню инженера-механика
URL:https://urgau.ru/kalendar-sobytij/event/450-studencheskaya-konferentsiy
 a-posvyashchennaya-dnyu-inzhenera-mekhanika
END:VEVENT
BEGIN:VEVENT
UID:20260424T121635+05-7244TEfbsO@https://urgau.ru/
DTSTAMP:20260424T071635Z
DESCRIPTION:Начало мероприятия в 10:00 ч.\n \n  https://urgau.ru/kalendar-s
 obytij/event/451-studencheskaya-konferentsiya-posvyashchennaya-dnyu-agrono
 ma
DTSTART;VALUE=DATE:20241127
LOCATION:Зал диссовета (г. Екатеринбрг\, ул. К. Либкнехта\, 42\, ауд. 1305)
SUMMARY:Студенческая конференция\, посвященная Дню агронома
URL:https://urgau.ru/kalendar-sobytij/event/451-studencheskaya-konferentsiy
 a-posvyashchennaya-dnyu-agronoma
END:VEVENT
END:VCALENDAR
